BEGIN:VCALENDAR
VERSION:2.0
PRODID:-//wp-events-plugin.com//7.2.3.1//EN
TZID:America/New_York
X-WR-TIMEZONE:America/New_York
BEGIN:VEVENT
UID:4@world-masters-athletics.org
DTSTART;TZID=Europe/Madrid;VALUE=DATE:20230921
DTEND;TZID=Europe/Madrid;VALUE=DATE:20231002
DTSTAMP:20230305T100019Z
URL:https://world-masters-athletics.org/championships/2023-european-master
 s-athletics-championships-stadia/
SUMMARY:2023 European Masters Athletics Championships Stadia
DESCRIPTION:The European Masters Athletics Championships are the biennial c
 hampionships for athletics events held under the umbrella of the European 
 Masters Athletics.\n\nHost Website\n\nLocation: Pescara\, Italy
ATTACH;FMTTYPE=image/jpeg:https://world-masters-athletics.org/wp-content/u
 ploads/2023/03/2023emacs.jpg
CATEGORIES:Regional Championships
END:VEVENT
BEGIN:VTIMEZONE
TZID:Europe/Madrid
X-LIC-LOCATION:Europe/Madrid
BEGIN:DAYLIGHT
DTSTART:20230326T030000
TZOFFSETFROM:+0100
TZOFFSETTO:+0200
TZNAME:CEST
END:DAYLIGHT
END:VTIMEZONE
END:VCALENDAR