BEGIN:VCALENDAR
VERSION:2.0
PRODID:-//wp-events-plugin.com//7.2.3.1//EN
TZID:America/New_York
X-WR-TIMEZONE:America/New_York
BEGIN:VEVENT
UID:14@world-masters-athletics.org
DTSTART:20231109T060000Z
DTEND:20231113T055900Z
DTSTAMP:20230909T222452Z
URL:https://world-masters-athletics.org/championships/2023-nccma-regional-
 stadia-championships/
SUMMARY:2023 NCCMA - Regional Stadia Championships
DESCRIPTION:NCCMA - Regional Stadia Championships\n\n9th - 12th November 20
 23\nRegistration -  Will open soon\nLocation: Juarez City\, Mexico\n[maxb
 utton id="16" url="https://www.nccmacdjuarez.com"]\n
ATTACH;FMTTYPE=image/jpeg:https://world-masters-athletics.org/wp-content/u
 ploads/2018/01/NCCMA-Logo-e1566984455775.png
CATEGORIES:Outdoor,Regional Championships,Stadia
END:VEVENT
END:VCALENDAR