BEGIN:VCALENDAR
VERSION:2.0
PRODID:-//wp-events-plugin.com//7.2.3.1//EN
TZID:America/New_York
X-WR-TIMEZONE:America/New_York
BEGIN:VEVENT
UID:40@world-masters-athletics.org
DTSTART;TZID=Australia/Brisbane:20251105T070000
DTEND;TZID=Australia/Brisbane:20251109T180000
DTSTAMP:20251024T024515Z
URL:https://world-masters-athletics.org/championships/2025-asia-masters-at
 hletics-championships/
SUMMARY:2025 Asia Masters Athletics Championships
DESCRIPTION:The 23rd Asia Masters Athletics Championships (23rd  AMAC)  o
 rganized by the Masters Athletics Federation of India (MAFI) - India\n\n[m
 axbutton id="65"]
ATTACH;FMTTYPE=image/jpeg:https://world-masters-athletics.org/wp-content/u
 ploads/2025/05/2025-Asia-Championships.webp
CATEGORIES:Regional Championships
LOCATION:https://maps.app.goo.gl/c9RogEY5j8sVTP1K8
END:VEVENT
BEGIN:VTIMEZONE
TZID:Australia/Brisbane
X-LIC-LOCATION:Australia/Brisbane
BEGIN:STANDARD
DTSTART:20241105T070000
TZOFFSETFROM:+1000
TZOFFSETTO:+1000
TZNAME:AEST
END:STANDARD
END:VTIMEZONE
END:VCALENDAR