BEGIN:VCALENDAR
VERSION:2.0
PRODID:-//wp-events-plugin.com//7.2.3.1//EN
TZID:America/New_York
X-WR-TIMEZONE:America/New_York
BEGIN:VEVENT
UID:43@world-masters-athletics.org
DTSTART:20260327T080000Z
DTEND:20260402T170000Z
DTSTAMP:20251126T015122Z
URL:https://world-masters-athletics.org/championships/2026-european-master
 s-athletics-championship-indoor/
SUMMARY:2026 European Masters Athletics Championship Indoor
DESCRIPTION:[maxbutton id="66"]\n\n&nbsp\;
ATTACH;FMTTYPE=image/jpeg:https://world-masters-athletics.org/wp-content/u
 ploads/2025/07/2026-European-Masters-Athletics-Championship-Indoor-Logo.jp
 g
CATEGORIES:Regional Championships
LOCATION:Arena Toruń\, Generała Józefa Bema 73/89\, 87-100\, Toruń\, Po
 land
X-APPLE-STRUCTURED-LOCATION;VALUE=URI;X-ADDRESS=Generała Józefa Bema 73/8
 9\, 87-100\, Toruń\, Poland;X-APPLE-RADIUS=100;X-TITLE=Arena Toruń:geo:0
 ,0
END:VEVENT
END:VCALENDAR