BEGIN:VCALENDAR
VERSION:2.0
PRODID:-//wp-events-plugin.com//7.2.3.1//EN
TZID:America/New_York
X-WR-TIMEZONE:America/New_York
BEGIN:VEVENT
UID:49@world-masters-athletics.org
DTSTART:20261011T070000Z
DTEND:20261011T180000Z
DTSTAMP:20260416T024108Z
URL:https://world-masters-athletics.org/championships/2026-world-masters-a
 thletics-marathon-championships/
SUMMARY:2026 World Masters Athletics Marathon Championships
DESCRIPTION:The 2026 World Masters Athletics Marathon Championship in Zagre
 b will use the established Zagreb Marathon course\, known for its mix of h
 istoric downtown and modern city views\, starting and finishing in Ban Jel
 ačić Square\, offering a balanced\, fast course with excellent logistics
  and local support\, ideal for strong performances in a festive atmosphere
 . The course highlights Zagreb's landmarks and character\, providing a mem
 orable experience for international masters athletes.\n\n[maxbutton id="72
 "]
ATTACH;FMTTYPE=image/jpeg:https://world-masters-athletics.org/wp-content/u
 ploads/2025/12/Zagreb.jpg
CATEGORIES:Marathon,World Championships
LOCATION:https://maps.app.goo.gl/CGDyXZJotcewt1AT6
END:VEVENT
END:VCALENDAR