BEGIN:VCALENDAR
VERSION:2.0
PRODID:-//wp-events-plugin.com//7.2.3.1//EN
TZID:America/New_York
X-WR-TIMEZONE:America/New_York
BEGIN:VEVENT
UID:47@world-masters-athletics.org
DTSTART:20271031T070000Z
DTEND:20271031T160000Z
DTSTAMP:20251028T210352Z
URL:https://world-masters-athletics.org/championships/2027-ema-marathon-ch
 ampionships/
SUMMARY:2027 EMA Marathon Championships
DESCRIPTION:2027 EMA Marathon Championships (EMAMRC)\n\nLucerne\, Switzerla
 nd
ATTACH;FMTTYPE=image/jpeg:https://world-masters-athletics.org/wp-content/u
 ploads/2023/03/EMA-Logo-e1761274612170.jpg
CATEGORIES:Marathon
LOCATION:https://maps.app.goo.gl/dQA7GAtAdm9KAXUDA
END:VEVENT
END:VCALENDAR