BEGIN:VCALENDAR
VERSION:2.0
PRODID:-//wp-events-plugin.com//7.2.3.1//EN
TZID:America/New_York
X-WR-TIMEZONE:America/New_York
BEGIN:VEVENT
UID:51@world-masters-athletics.org
DTSTART;VALUE=DATE:20270318
DTEND;VALUE=DATE:20270327
DTSTAMP:20260329T221155Z
URL:https://world-masters-athletics.org/championships/2027-world-masters-a
 thletics-indoor-championship/
SUMMARY:2027 World Masters Athletics Indoor Championships
DESCRIPTION:This Championship\, set to be held from March 18-26\, 2027\, pr
 omises to be another great experience for Masters Athletes and attendees. 
 It might be the most convenient WMA Championship ever with 2\,000 hotel ro
 oms within 2km\, shuttles to venues and much more.		\n					\n									Cham
 pionship Website\n					\n					\n									Complete Results\n					\n					\n	
 								Medal Table\n					\n					\n									Records @ 2025 WMACi\n					\n	
 														
ATTACH;FMTTYPE=image/jpeg:https://world-masters-athletics.org/wp-content/u
 ploads/2026/03/WMACi-2027-Logo.png
CATEGORIES:Indoor,World Championships
LOCATION:Alachua County Sports & Events Center\, 4870 Celebration Pointe Av
 e\, Gainesville\, Florida\, 32608\, United States
GEO:29.625147;-82.39546
X-APPLE-STRUCTURED-LOCATION;VALUE=URI;X-ADDRESS=4870 Celebration Pointe Ave
 \, Gainesville\, Florida\, 32608\, United States;X-APPLE-RADIUS=100;X-TITL
 E=Alachua County Sports & Events Center:geo:29.625147,-82.39546
END:VEVENT
END:VCALENDAR